BEGIN:VCALENDAR
VERSION:2.0
PRODID:-//Library Market//iCal Export//EN
BEGIN:VEVENT
SUMMARY:Free Health Screenings with the St. Francis Outreach Bus
UID:79350
DTSTAMP:20260426T002300Z
DTSTART:20260619T140000Z
DTEND:20260619T180000Z
LOCATION:Jericho Public Library, 1 Merry Lane, Jericho, NY 11753, United S
 tates
ROOM: Front of Library
DESCRIPTION:Open to adults 18 and older — no appointment needed.Services
  include:Brief cardiac history reviewBlood pressure checkSimple blood test
  for cholesterol and diabetesPatient education and referralsTake a step to
 ward better health — stop by for your free screening!
URL:https://www.jericholibrary.org/event/st-francis-outreach-bus-79350
END:VEVENT
END:VCALENDAR
