BEGIN:VCALENDAR
VERSION:2.0
PRODID:-//Library Market//iCal Export//EN
BEGIN:VEVENT
SUMMARY:JERICHO HALL OF FAME
UID:82250
DTSTAMP:20260423T132000Z
DTSTART:20260423T150000Z
DTEND:20260424T010000Z
LOCATION:Jericho Public Library, 1 Merry Lane, Jericho, NY 11753, United S
 tates
ROOM: Meeting Room
DESCRIPTION:
URL:https://www.jericholibrary.org/event/jericho-hall-fame-82250
END:VEVENT
END:VCALENDAR
