BEGIN:VCALENDAR
VERSION:2.0
PRODID:-//Library Market//iCal Export//EN
BEGIN:VEVENT
SUMMARY:APTLI Recital
UID:86056
DTSTAMP:20260426T002400Z
DTSTART:20260509T170000Z
DTEND:20260509T200000Z
LOCATION:Jericho Public Library, 1 Merry Lane, Jericho, NY 11753, United S
 tates
ROOM: Theater
DESCRIPTION:Sponsored by a Community Group
URL:https://www.jericholibrary.org/event/aptli-recital-86056
END:VEVENT
END:VCALENDAR
