BEGIN:VCALENDAR
VERSION:2.0
PRODID:-//Library Market//iCal Export//EN
BEGIN:VEVENT
SUMMARY:Hidden Identities: A Six Act Play 🎭
UID:88674
DTSTAMP:20260426T003900Z
DTSTART:20260620T180000Z
DTEND:20260620T193000Z
LOCATION:Jericho Public Library, 1 Merry Lane, Jericho, NY 11753, United S
 tates
ROOM: Theater
DESCRIPTION:Hidden Identities consists of 6 one act plays, all written by 
 local Long Island playwrights, and all centered around a central theme- ap
 pearances can be deceiving- people are not always what they seem to be. Di
 scover the hidden identities of these characters as you laugh, and, perhap
 s, shed a tear.Tickets will be available to all on Saturday, May 30th.
URL:https://www.jericholibrary.org/event/hidden-identities-six-act-play-88
 674
END:VEVENT
END:VCALENDAR
