BEGIN:VCALENDAR
VERSION:2.0
PRODID:-//Library Market//iCal Export//EN
BEGIN:VEVENT
SUMMARY:Mid Island Dahlia Society
UID:89382
DTSTAMP:20260426T004400Z
DTSTART:20260504T223000Z
DTEND:20260505T003000Z
LOCATION:Jericho Public Library, 1 Merry Lane, Jericho, NY 11753, United S
 tates
ROOM: Meeting Room
DESCRIPTION:Program sponsored by the Mid Island Dahlia Society.
URL:https://www.jericholibrary.org/event/dahlia-society-89382
END:VEVENT
END:VCALENDAR
