BEGIN:VCALENDAR
VERSION:2.0
PRODID:-//Library Market//iCal Export//EN
BEGIN:VEVENT
SUMMARY:GIRLS SCOUTS
UID:89392
DTSTAMP:20260426T004400Z
DTSTART:20260506T214500Z
DTEND:20260507T000000Z
LOCATION:Jericho Public Library, 1 Merry Lane, Jericho, NY 11753, United S
 tates
ROOM: Meeting Room
DESCRIPTION:Sponsored by a Community Group
URL:https://www.jericholibrary.org/event/hold-girls-scouts-89392
END:VEVENT
END:VCALENDAR
