BEGIN:VCALENDAR
VERSION:2.0
PRODID:-//Library Market//iCal Export//EN
BEGIN:VEVENT
SUMMARY:Interfaith Council
UID:91356
DTSTAMP:20260426T004400Z
DTSTART:20260503T180000Z
DTEND:20260503T193000Z
LOCATION:Jericho Public Library, 1 Merry Lane, Jericho, NY 11753, United S
 tates
ROOM: Theater
DESCRIPTION:Sponsored by a Community Group
URL:https://www.jericholibrary.org/event/interfaith-meeting-91356
END:VEVENT
END:VCALENDAR
