BEGIN:VCALENDAR
VERSION:2.0
PRODID:-//Library Market//iCal Export//EN
BEGIN:VEVENT
SUMMARY:TNN meeting
UID:92133
DTSTAMP:20260426T002400Z
DTSTART:20260528T170000Z
DTEND:20260528T190000Z
LOCATION:Jericho Public Library, 1 Merry Lane, Jericho, NY 11753, United S
 tates
ROOM: Meeting Room
DESCRIPTION:Sponsored by a Community Group
URL:https://www.jericholibrary.org/event/tnn-meeting-92133
END:VEVENT
END:VCALENDAR
