BEGIN:VCALENDAR
VERSION:2.0
PRODID:-//Library Market//iCal Export//EN
BEGIN:VEVENT
SUMMARY:Summer Reading Kickoff
UID:92683
DTSTAMP:20260426T004400Z
DTSTART:20260613T170000Z
DTEND:20260613T190000Z
LOCATION:Jericho Public Library, 1 Merry Lane, Jericho, NY 11753, United S
 tates
ROOM: Jericho
DESCRIPTION:Registration begins at our Summer Reading Kickoff!We’re plan
 ning a fun event to start our Summer Reading Programs for children, teens 
 and adults.Come and join in on the festivities!Enter raffles, enjoy bubble
 s, sand art, ice cream and, a visit from a special guest, and more. You wo
 n’t want to miss it!A valid Jericho Library card is required! 
URL:https://www.jericholibrary.org/event/save-date-summer-reading-kickoff-
 92683
END:VEVENT
END:VCALENDAR
