BEGIN:VCALENDAR
VERSION:2.0
PRODID:-//Library Market//iCal Export//EN
BEGIN:VEVENT
SUMMARY:The Rusty Spur: Live Country Music comes to the JPL!
UID:93464
DTSTAMP:20260426T002300Z
DTSTART:20260517T180000Z
DTEND:20260517T193000Z
LOCATION:Jericho Public Library, 1 Merry Lane, Jericho, NY 11753, United S
 tates
ROOM: Theater
DESCRIPTION:Rusty Spur is a 7 piece modern country touring band paying tri
 bute to superstar artists Carrie Underwood, Luke Combs, Miranda Lambert, M
 organ Wallen, Tim McGraw, Lainey Wilson and the hottest country music of t
 oday.Tickets are available to all. This program is co-sponsored by the Jer
 icho Public Library and the Town of Oyster Bay Distinguished Artist Series
 .
URL:https://www.jericholibrary.org/event/rusty-spur-live-93464
END:VEVENT
END:VCALENDAR
