BEGIN:VCALENDAR
VERSION:2.0
PRODID:-//Library Market//iCal Export//EN
BEGIN:VEVENT
SUMMARY:Art Reception: Still Life Photographs by Allan Markman
UID:93471
DTSTAMP:20260426T002300Z
DTSTART:20260520T220000Z
DTEND:20260521T000000Z
LOCATION:Jericho Public Library, 1 Merry Lane, Jericho, NY 11753, United S
 tates
ROOM: Meeting Room
DESCRIPTION:Enjoy photography by Allan Markman. Join us for light refreshm
 ents.
URL:https://www.jericholibrary.org/event/hld-art-reception-93471
END:VEVENT
END:VCALENDAR
