BEGIN:VCALENDAR
VERSION:2.0
PRODID:-//Library Market//iCal Export//EN
BEGIN:VEVENT
SUMMARY:Book Donations
UID:93611
DTSTAMP:20260426T004400Z
DTSTART:20260504T133000Z
DTEND:20260505T003000Z
LOCATION:Jericho Public Library, 1 Merry Lane, Jericho, NY 11753, United S
 tates
ROOM: Back of Library
DESCRIPTION:The Library will be accepting donations of patrons’ gently u
 sed books, CDs and DVDs to be sold at our Annual Book Sale.Please leave do
 nations beneath the overhang in the back of the library on the JPL Donatio
 n Cart.  Donated items will become the property of the Jericho Public Lib
 rary. Use of these items is at the sole discretion of the Library. 
URL:https://www.jericholibrary.org/event/book-donations-93611
END:VEVENT
END:VCALENDAR
