BEGIN:VCALENDAR
VERSION:2.0
PRODID:-//Library Market//iCal Export//EN
BEGIN:VEVENT
SUMMARY:News Currents with Elinor Haber
UID:93888
DTSTAMP:20260426T002400Z
DTSTART:20260526T183000Z
DTEND:20260526T200000Z
LOCATION:Jericho Public Library, 1 Merry Lane, Jericho, NY 11753, United S
 tates
ROOM: Meeting Room
DESCRIPTION:Join Elinor to participate in an informal exchange about topic
 s of the day–the international, national and local scene. We’ll focus 
 on trends that affect us now and in the future. Bring your thoughts, issue
 s and a friend to join in the discussion.No registration required!
URL:https://www.jericholibrary.org/event/news-currents-elinor-haber-93888
END:VEVENT
END:VCALENDAR
