BEGIN:VCALENDAR
VERSION:2.0
PRODID:-//Library Market//iCal Export//EN
BEGIN:VEVENT
SUMMARY:2025/2026 Library Budget &amp; Trustee Election
UID:93900
DTSTAMP:20260419T194500Z
DTSTART:20260519T100000Z
DTEND:20260520T010000Z
LOCATION:Jericho Middle/High School Gymnasium, 99 Cedar Swamp Road, Jerich
 o, NY 11753, United States
ROOM: 2025/2026 Library Budget &amp; Trustee Election
DESCRIPTION:Where: Jericho Middle/High School GymnasiumYou are eligible to
  vote if you are 18 or over, a US citizen and a district resident for 30 d
 ays prior to the May 19th election.The proposed Library Budget falls under
  the tax cap and appears as Proposition 3 on the School District election 
 ballot.You will have the opportunity to vote for one Jericho Public Librar
 y Board Trustee for a 5 year term.The Public Hearing is scheduled for Tues
 day, May 12th at 7:00 PM in the High School Little Theater. SE AVISA que 
 la Elección Anual de la Biblioteca Pública de Jericho se llevará a cabo
  en el gimnasio de la escuela secundaria en Jericho el día martes 19 de m
 ayo de 2025, entre las 6:00 a.m. y las 9:00 p.m.La Propuesta de la Bibliot
 eca se presentará para elegir un nuevo miembro de la Junta de Fideicomisa
 rios por un término de 5 años.To request an Absentee Ballot, email Distr
 ictClerk@jerichoschools.org or call the District Clerk at 516-203-3600 ext
 . 3214.
URL:https://www.jericholibrary.org/event/20252026-library-budget-trustee-e
 lection-93900
END:VEVENT
END:VCALENDAR
