BEGIN:VCALENDAR
VERSION:2.0
PRODID:-//Library Market//iCal Export//EN
BEGIN:VEVENT
SUMMARY:Baby &amp; Toddler Play Time (Ages 3 months to 3 years)
UID:93908
DTSTAMP:20260426T002300Z
DTSTART:20260511T143000Z
DTEND:20260511T151500Z
LOCATION:Jericho Public Library, 1 Merry Lane, Jericho, NY 11753, United S
 tates
ROOM: Children&#039;s Room
DESCRIPTION:Enjoy playtime at the library with your baby or toddler! Littl
 e ones can explore, play, and interact with other children during this rel
 axed, unstructured time, while caregivers enjoy special moments together. 
 We’ll provide a variety of fun toys and board books in a warm, welcoming
  space for everyone to enjoy.No registration necessary!
URL:https://www.jericholibrary.org/event/baby-toddler-play-time-ages-3-mon
 ths-3-years-93908
END:VEVENT
END:VCALENDAR
