BEGIN:VCALENDAR
VERSION:2.0
PRODID:-//Library Market//iCal Export//EN
BEGIN:VEVENT
SUMMARY:Book Buddies Bash: Pizza Party
UID:93922
DTSTAMP:20260426T002400Z
DTSTART:20260522T200000Z
DTEND:20260522T210000Z
LOCATION:Jericho Public Library, 1 Merry Lane, Jericho, NY 11753, United S
 tates
ROOM: Meeting Room
DESCRIPTION:Celebrate the end of our Spring 2026 Book Buddies program with
  a pizza party for participants!This is an invitation only program for Boo
 k Buddies participants. 
URL:https://www.jericholibrary.org/event/book-buddies-bash-pizza-party-939
 22
END:VEVENT
END:VCALENDAR
