BEGIN:VCALENDAR
VERSION:2.0
PRODID:-//Library Market//iCal Export//EN
BEGIN:VEVENT
SUMMARY:Chinese Dance
UID:94062
DTSTAMP:20260426T002400Z
DTSTART:20260519T133000Z
DTEND:20260519T150000Z
LOCATION:Jericho Public Library, 1 Merry Lane, Jericho, NY 11753, United S
 tates
ROOM: Meeting Room
DESCRIPTION:
URL:https://www.jericholibrary.org/event/chinese-dance-94062
END:VEVENT
END:VCALENDAR
